BEGIN:VCALENDAR
VERSION:2.0
PRODID:-//ExpressionEngine Easy iCalendar plugin//NONSGML v2.0.1//EN
X-WR-TIMEZONE:America/New_York
X-WR-CALNAME:Upcoming Auctions
BEGIN:VEVENT
UID:158133
DTSTAMP:20260307T090000
DTSTART:20260307T090000
DTEND:20260307T100000
SUMMARY:March 7th Live Sale
LOCATION:{location}
DESCRIPTION:BOWMAN AUCTIONS SAT. MARCH 7\,2026 9:00AM OPEN HOUSE: FRIDAY 
 9:00-4:00 We will sell the following: Guns: Springfield Sai
 nt Victor AR-15 .223/5.56 (w/Winchester mod. 90-22 W.R.F.\, W
 inchester Mod. 1200 12ga.\, Browning .22 cal. Long rifle\, S&W
  Springfield .38 S&W\, German Luger WWII 9mm\, Winchester 22 
 Long rifle mod. 63\, Springfield mod. 1096 30-06 Collectibles
 : Advertising signs\, advertising thermometers\, Maude Snyde
 r milk bottle\, Lance peanut jar\, metal target\, Lionel train
  set\, model cars\, Pyrex dish set in original box\, wooden box
 es\, Poplar Mechanic Encyclopedia’s\, Brokhoffs dairy bottle
  set\, quilts\, comforts\, vintage cameras. Remington typewrite
 r\, costume jewelry\, coins\, Local papers\, post cards\, Longs s
 tore receipt\, Snell grocery receipt\, stamp collections\, cook
 ie Jars\, Furniture: La-Z-boy recliners (2)\, Maple dining ta
 ble & 6 chairs & 2 leaves\, Henkel-Harris tables\, patio furni
 ture\, Full size bed w/vanity\, Pine full size bedroom suite (
 bed\, dresser w/ mirror\, chest)\, Childs roll top desk w/chair
 \, round drop leaf table\, Duncan-phyfe drop leaf table\, Misce
 llaneous: household items\, tools\, ladder\, Eagle figures\, en
 amel ware\, corning ware\, Pyrex\, Heat surge heater\, material\,
  material balls\, microwave\, Galv. Pans\, pictures\, linens\, Ar
 ea rugs\, braided rugs\, canner\, books\, set of Coelle dishes\, 
 baskets\, flatware\, Bose Radio\, sewing notions\, marbles\, much
  much more. For more information call Jack 540-830-1028\, Jod
 i 540-271-3181 or go to Bowmanauctions.com or Auctionzip.com
  #6418. NO BUYERS PREMIUM! FOOD WILL BE SERVED. Terms of Per
 sonal Property sale: cash or check w/ID or credit card. Ann
 ouncements made the day of sale take precedence over all wri
 tten material. AUCTIONEER: Col. Jack Bowman #185
URL:https://www.bowmanauctions.com/auctions/detail/bw158133
SEQUENCE:1
END:VEVENT
END:VCALENDAR