BEGIN:VCALENDAR
VERSION:2.0
PRODID:-//ExpressionEngine Easy iCalendar plugin//NONSGML v2.0.1//EN
X-WR-TIMEZONE:America/New_York
X-WR-CALNAME:Upcoming Auctions
BEGIN:VEVENT
UID:158134
DTSTAMP:20260321T090000
DTSTART:20260321T090000
DTEND:20260321T100000
SUMMARY:March 21st Live Sale
LOCATION:{location}
DESCRIPTION:BOWMAN  AUCTIONS GLEN’S FAIR PRICE IS CLOSING AND WE WILL
  SELL THE INVENTORY SATURDAY\, MARCH 21\, 2027 9:00AM OPEN HOU
 SE : FRIDAY 10:00-4:00   We will sell shelving\, racks\, show
 cases\, cameras & parts\,1000s of costumes\, flags\, 1000s of it
 ems being sold in bulk. An Auction like never before ! Go To
  Bowmanauctions.com or Auctionzip.com #6418 for pictures and
  details. For more info call Jack 540-830-1028 or Jodi 540-2
 71-3181.    Auctioneer : Col. Jack Bowman  #185    
URL:https://www.bowmanauctions.com/auctions/detail/bw158134
SEQUENCE:1
END:VEVENT
END:VCALENDAR