BEGIN:VCALENDAR
VERSION:2.0
PRODID:-//ExpressionEngine Easy iCalendar plugin//NONSGML v2.0.1//EN
X-WR-TIMEZONE:America/New_York
X-WR-CALNAME:Upcoming Auctions
BEGIN:VEVENT
UID:158136
DTSTAMP:20260411T090000
DTSTART:20260411T090000
DTEND:20260411T100000
SUMMARY:April 11th Live Auction
LOCATION:2143 mill creek road \, Luray \, VA 22835\, US
DESCRIPTION:BOWMANÂ  AUCTIONS SATURDAY\, APRILL 11\, 2026 9:00AM OPEN HOUS
 E: FRIDAY 10\;00-4:00 Location: 2143 Mill Creek Road\, Luray\, 
 Â Virginia. Â  Truck:Â 1950 Chevy Truck\,Â 3 speed on the col
 umn\, electronic ignition\, rebuilt 216.5 cubic inch Thrift Ma
 ster In-line 6 cylinder engine\, low mileage\, disc brakes on 
 front\, drum brakes in rear\, electric emergency brake\, AM/FMÂ
   radio\, horn with an array of special sounds\, and new bed\, 
 fenders\, grill and running board.Â Stored insideÂ  Camper:Â 
 2017 Forest River Vibe 258 RKS\, Extreme Lite\, with hitch and
  sway bar\, features electric awning and jacks\, TV and stereo
 \, propane stove and oven\, electric and/or propane water heat
 er\, awning lights with remote\, sleeps 5\, slide out living ar
 ea\, outside shower\, enclosed underbelly\, stored inside\, only
  used twice.Â  Furniture:Â King size bed\, full size bedroom 
 suits\, full size bed\, dining room table and chairs \, kitchen
  table and chairs \, hall tables\, curio cabinets\, China cabin
 et\, large desk\, love seats\, Â matching sofas\, lift chair\, re
 cliners \, chest\, quilt rack \, end tables\, Story & Clark pian
 o\, couch\, 4 drawer pine dresser\, wall cabinet\, coffee and ma
 tching end table\, lamps\, patio chairs\, matching wing back ch
 airs\, bookshelves\,Â record cabinets\, organÂ  Collectibles: b
 ell collection\, quilts\, milk glass\, records\, angel and star 
 blow molds\,Â military jackets\, Household: pots and pans\, fla
 tware\, corning ware\, Pyrex\, new bedding\, linens\, art\, canist
 ers\, small appliances\, canisters\, Tupperware\, set of pink or
 chid Grant crest China\, Christmas decorations\, area rugs\, Dy
 na-glo grill\,Â dvds\, televisions\, handicap equipment Â Shop:
  Toro zero turn mower\, sockets\, air compressor\,Â agri- fab v
 ac.\, estate mower\, ladders\, pro 110 reddy heater\, Â Generac 
 generator Gp17500E\, Statesman tiller\, garden hoses\, saw hors
 es\, hand and yard tools \, Chicago electric 90 amp welder\, Ra
 nch King pro riding mower\, Lincoln welder\, Apache chipper\, t
 able saw\, Predator Auger powerhead\, shelving much more .Â  F
 or more information call JackÂ 540-830-1028\, JodiÂ 540-271-3
 181Â or go to Bowmanauctions.com or Auctionzip.com #6418.Â  
 NO BUYERS PREMIUM! FOOD WILL BE SERVED. Terms of Personal Pr
 operty sale:Â cash or check w/ID or credit card.Â  Announcem
 ents made the day of sale take precedence over all written m
 aterial. Â  AUCTIONEER:Â Â Â Â Col. Jack Bowman #185
URL:https://www.bowmanauctions.com/auctions/detail/bw158136
SEQUENCE:1
END:VEVENT
END:VCALENDAR