BEGIN:VCALENDAR
VERSION:2.0
PRODID:-//ExpressionEngine Easy iCalendar plugin//NONSGML v2.0.1//EN
X-WR-TIMEZONE:America/New_York
X-WR-CALNAME:Upcoming Auctions
BEGIN:VEVENT
UID:158137
DTSTAMP:20260418T090000
DTSTART:20260418T090000
DTEND:20260418T160000
SUMMARY:April 18th Live Auction
LOCATION:{location}
DESCRIPTION:BOWMANÂ AUCTIONS SAT. APRIL 18\, 2026 9:00AM OPEN HOUSE: FRID
 AY 9:00-4:00 LOCATION: 680 WATERMAN DRIVE\, HARRISONBURG\,VA. 
 22802 Â  Collectibles:Â Baldwin Baby Grand Piano\, Wicker hor
 se drawn sleigh\, 4 wheeled pleasure buggy\, globe\, The Crooke
 d & Weedy book\,Harrisonburg\, Rockingham book\, oil lamps\, boo
 ks\,Â Longaberger baskets\, Arrows\, 5 gal. water jug\, 1939 Roc
 kingham county atlas\, Copper canner\, cast tea pot\, wooden vi
 ew masters\, art\, P. Buckley Moss prints\, maps\, trains\, boy s
 cout uniform\, Navy clothes Guns:Â Remington 22 L mod. 24 Lon
 g rifle\, Winchester mod. 94 30-30 Win.\, Mossberg 22\, Marlin 
 mod. 782 cal. 22\, Ammunition\,Â Â scopes\, Furniture:Â Suter:Â
  Queen size Cherry bed\, full size Cherry bed \, 9 dr. Highboy
 \,6 dr. dresser w/mirror. 4 dr nightstand. Single dr. nightst
 and\, end table. Lane Cedar chest\,Â Empire style chest\, 5 dr.
  chest\, cloth tree\,Â Â top walnut server\, marble top wash st
 and\, Suter Cherry round kitchen table w/ 4 chairs\, Walnut dr
 op leaf table\, wing back matching chairs\, leather sofa & cha
 ir\, Lift chair\, recliner\, 6 ladder back chairs (2 sets) 8 la
 dder back chairs\, oak table w/ leaves\, Henkel Harriso corner
  cabinet\, 2 door cupboard\, wooden cradle\, oak 4 dr. chest\, (
 3) Ethan Allen set back cupboards \, Ethan Allen server\, leat
 her top library table\, pine drop leaf table\, Cherry dining t
 able\, wardrobe ( needs repair)\,Â Â Wicker Patio table & chai
 rs\, benches\, 2 oak barrister bookcases\, Miscellaneous:Â fish
 ing poles\, wooden dolly\, boxes of skeet\, hunting items\, Wrin
 ger washer\, cut glass\, kitchen wares\, and much more. Still u
 npacking. For more information call Jack 540-830-1028\, Jodi 
 540-271-3181 or go to Bowmanauctions.bidwrangler.com or Auct
 ionzip.com #6418. NO BUYERS PREMIUM! FOOD WILL BE SERVED. Te
 rms of Personal Property sale:Â cash or check w/ID or credit
  card.Â  Announcements made the day of sale take precedence 
 over all written material. Â  AUCTIONEER:Â Â Â Â Col. Jack B
 owman #185 Â 
URL:https://www.bowmanauctions.com/auctions/detail/bw158137
SEQUENCE:1
END:VEVENT
END:VCALENDAR