BEGIN:VCALENDAR
VERSION:2.0
PRODID:-//ExpressionEngine Easy iCalendar plugin//NONSGML v2.0.0//EN
X-WR-TIMEZONE:America/New_York
X-WR-CALNAME:Upcoming Auctions
BEGIN:VEVENT
UID:160430
DTSTAMP:20260502T090000
DTSTART:20260502T090000
DTEND:20260502T190000
SUMMARY:May 2\,2026
LOCATION:680 waterman drive\, harrisonburg\, VA 22802\, US
DESCRIPTION:household\, collectibles\, furniture
URL:https://www.bowmanauctions.com/auctions/detail/bw160430
SEQUENCE:1
END:VEVENT
END:VCALENDAR