BEGIN:VCALENDAR
VERSION:2.0
PRODID:-//ExpressionEngine Easy iCalendar plugin//NONSGML v2.0.0//EN
X-WR-TIMEZONE:America/New_York
X-WR-CALNAME:Upcoming Auctions
BEGIN:VEVENT
UID:160434
DTSTAMP:20260507T150000
DTSTART:20260507T150000
DTEND:20260507T200000
SUMMARY:May 7\,2026
LOCATION:680 waterman drive\, harrisonburg\, VA 22802\, US
DESCRIPTION:Personal Property
URL:https://www.bowmanauctions.com/auctions/detail/bw160434
SEQUENCE:1
END:VEVENT
END:VCALENDAR