BEGIN:VCALENDAR
VERSION:2.0
PRODID:-//ExpressionEngine Easy iCalendar plugin//NONSGML v2.0.0//EN
X-WR-TIMEZONE:America/New_York
X-WR-CALNAME:Upcoming Auctions
BEGIN:VEVENT
UID:160436
DTSTAMP:20260514T180000
DTSTART:20260514T180000
DTEND:20260514T190000
SUMMARY:May 14\,2026
LOCATION:820 Waterman Drive \, Harrisonburg\, VA 22802\, US
DESCRIPTION:Storage Units 
URL:https://www.bowmanauctions.com/auctions/detail/bw160436
SEQUENCE:1
END:VEVENT
END:VCALENDAR