BEGIN:VCALENDAR
VERSION:2.0
PRODID:-//ExpressionEngine Easy iCalendar plugin//NONSGML v2.0.0//EN
X-WR-TIMEZONE:America/New_York
X-WR-CALNAME:Upcoming Auctions
BEGIN:VEVENT
UID:160441
DTSTAMP:20260530T090000
DTSTART:20260530T090000
DTEND:20260530T090000
SUMMARY:May 30\,2026
LOCATION:{location}
DESCRIPTION:Real Estate and Personal Property
URL:https://www.bowmanauctions.com/auctions/detail/bw160441
SEQUENCE:1
END:VEVENT
END:VCALENDAR