BEGIN:VCALENDAR
VERSION:2.0
PRODID:-//ExpressionEngine Easy iCalendar plugin//NONSGML v2.0.0//EN
X-WR-TIMEZONE:America/New_York
X-WR-CALNAME:Upcoming Auctions
BEGIN:VEVENT
UID:160919
DTSTAMP:20260423T140000
DTSTART:20260423T140000
DTEND:20260423T200000
SUMMARY:April 23 LIVE AUCTION
LOCATION:10716 Harpine Highway\, Broadway\, VA 22815\, US
DESCRIPTION:THURS. APR. 23 @ 2 PM 10716 Harpine Highway Broadway\, VA Ham
  radio equipment\, tools\, furniture & much more
URL:https://www.bowmanauctions.com/auctions/detail/bw160919
SEQUENCE:1
END:VEVENT
END:VCALENDAR